BEGIN:VCALENDAR
VERSION:2.0
PRODID:-//Asociación de Padres de Familia Españolas - Spanischer Elternverein Bonn-Beuel e.V. - ECPv6.15.20//NONSGML v1.0//EN
CALSCALE:GREGORIAN
METHOD:PUBLISH
X-WR-CALNAME:Asociación de Padres de Familia Españolas - Spanischer Elternverein Bonn-Beuel e.V.
X-ORIGINAL-URL:https://spanischerelternverein-bonn.de
X-WR-CALDESC:Veranstaltungen für Asociación de Padres de Familia Españolas - Spanischer Elternverein Bonn-Beuel e.V.
REFRESH-INTERVAL;VALUE=DURATION:PT1H
X-Robots-Tag:noindex
X-PUBLISHED-TTL:PT1H
BEGIN:VTIMEZONE
TZID:Europe/Berlin
BEGIN:DAYLIGHT
TZOFFSETFROM:+0100
TZOFFSETTO:+0200
TZNAME:CEST
DTSTART:20250330T010000
END:DAYLIGHT
BEGIN:STANDARD
TZOFFSETFROM:+0200
TZOFFSETTO:+0100
TZNAME:CET
DTSTART:20251026T010000
END:STANDARD
BEGIN:DAYLIGHT
TZOFFSETFROM:+0100
TZOFFSETTO:+0200
TZNAME:CEST
DTSTART:20260329T010000
END:DAYLIGHT
BEGIN:STANDARD
TZOFFSETFROM:+0200
TZOFFSETTO:+0100
TZNAME:CET
DTSTART:20261025T010000
END:STANDARD
BEGIN:DAYLIGHT
TZOFFSETFROM:+0100
TZOFFSETTO:+0200
TZNAME:CEST
DTSTART:20270328T010000
END:DAYLIGHT
BEGIN:STANDARD
TZOFFSETFROM:+0200
TZOFFSETTO:+0100
TZNAME:CET
DTSTART:20271031T010000
END:STANDARD
BEGIN:DAYLIGHT
TZOFFSETFROM:+0100
TZOFFSETTO:+0200
TZNAME:CEST
DTSTART:20280326T010000
END:DAYLIGHT
BEGIN:STANDARD
TZOFFSETFROM:+0200
TZOFFSETTO:+0100
TZNAME:CET
DTSTART:20281029T010000
END:STANDARD
END:VTIMEZONE
BEGIN:VEVENT
DTSTART;TZID=Europe/Berlin:20260510T143000
DTEND;TZID=Europe/Berlin:20260510T170000
DTSTAMP:20260424T143639
CREATED:20260222T150504Z
LAST-MODIFIED:20260424T052128Z
UID:12850-1778423400-1778432400@spanischerelternverein-bonn.de
SUMMARY:Veranstaltung nur für Mitglieder - Muttertag
DESCRIPTION:Veranstaltung nur für Mitglieder \nKaffee & Kuchen \nab 17 Uhr regulärer Restaurantbetrieb
URL:https://spanischerelternverein-bonn.de/event/muttertag/
LOCATION:Spanischer Elternverein Bonn-Beuel\, Paulusstraße 28\, Bonn\, 53757\, Germany
ORGANIZER;CN="Spanischer Elternverein Bonn-Beuel":MAILTO:spnischerelternverein-bonn@t-online.de
END:VEVENT
BEGIN:VEVENT
DTSTART;TZID=Europe/Berlin:20260514T110000
DTEND;TZID=Europe/Berlin:20260514T170000
DTSTAMP:20260424T143639
CREATED:20260222T151317Z
LAST-MODIFIED:20260226T080754Z
UID:12856-1778756400-1778778000@spanischerelternverein-bonn.de
SUMMARY:Veranstaltung nur für Mitglieder - Vatertag
DESCRIPTION:Veranstaltung nur für Mitglieder \nLasst euch überraschen… \nab 17:00h regulärer Restaurantbetrieb
URL:https://spanischerelternverein-bonn.de/event/veranstaltung-nur-fuer-mitglieder-vatertag/
LOCATION:Spanischer Elternverein Bonn-Beuel\, Paulusstraße 28\, Bonn\, 53757\, Germany
ORGANIZER;CN="Spanischer Elternverein Bonn-Beuel":MAILTO:spnischerelternverein-bonn@t-online.de
END:VEVENT
BEGIN:VEVENT
DTSTART;VALUE=DATE:20260606
DTEND;VALUE=DATE:20260607
DTSTAMP:20260424T143639
CREATED:20260222T151726Z
LAST-MODIFIED:20260222T151928Z
UID:12860-1780704000-1780790399@spanischerelternverein-bonn.de
SUMMARY:Noche Blanca mit DJ Vossi GVO
DESCRIPTION:Weitere Informationen folgen…
URL:https://spanischerelternverein-bonn.de/event/noche-blanca-mit-dj-vossi-gvo/
LOCATION:Spanischer Elternverein Bonn-Beuel\, Paulusstraße 28\, Bonn\, 53757\, Germany
ORGANIZER;CN="Spanischer Elternverein Bonn-Beuel":MAILTO:spnischerelternverein-bonn@t-online.de
END:VEVENT
BEGIN:VEVENT
DTSTART;VALUE=DATE:20260620
DTEND;VALUE=DATE:20260622
DTSTAMP:20260424T143640
CREATED:20260222T152050Z
LAST-MODIFIED:20260222T152050Z
UID:12864-1781913600-1782086399@spanischerelternverein-bonn.de
SUMMARY:Betriebsferien „El Centro“
DESCRIPTION:Das Vereinsrestaurant „El Centro“ hat geschlossen.
URL:https://spanischerelternverein-bonn.de/event/betriebsferien-el-centro-2/
LOCATION:Spanischer Elternverein Bonn-Beuel\, Paulusstraße 28\, Bonn\, 53757\, Germany
ORGANIZER;CN="Spanischer Elternverein Bonn-Beuel":MAILTO:spnischerelternverein-bonn@t-online.de
END:VEVENT
BEGIN:VEVENT
DTSTART;VALUE=DATE:20260627
DTEND;VALUE=DATE:20260628
DTSTAMP:20260424T143640
CREATED:20260222T152158Z
LAST-MODIFIED:20260222T152158Z
UID:12866-1782518400-1782604799@spanischerelternverein-bonn.de
SUMMARY:50 Jahr-Feier des Vereins
DESCRIPTION:Das Vereinsrestaurant „El Centro“ hat geschlossen.
URL:https://spanischerelternverein-bonn.de/event/50-jahr-feier-des-vereins/
LOCATION:Spanischer Elternverein Bonn-Beuel\, Paulusstraße 28\, Bonn\, 53757\, Germany
ORGANIZER;CN="Spanischer Elternverein Bonn-Beuel":MAILTO:spnischerelternverein-bonn@t-online.de
END:VEVENT
BEGIN:VEVENT
DTSTART;VALUE=DATE:20260727
DTEND;VALUE=DATE:20260819
DTSTAMP:20260424T143640
CREATED:20260222T152309Z
LAST-MODIFIED:20260222T152309Z
UID:12868-1785110400-1787097599@spanischerelternverein-bonn.de
SUMMARY:Betriebsferien „El Centro“
DESCRIPTION:Das Vereinsrestaurant „El Centro“ hat geschlossen.
URL:https://spanischerelternverein-bonn.de/event/betriebsferien-el-centro-3/
LOCATION:Spanischer Elternverein Bonn-Beuel\, Paulusstraße 28\, Bonn\, 53757\, Germany
ORGANIZER;CN="Spanischer Elternverein Bonn-Beuel":MAILTO:spnischerelternverein-bonn@t-online.de
END:VEVENT
BEGIN:VEVENT
DTSTART;VALUE=DATE:20261028
DTEND;VALUE=DATE:20261102
DTSTAMP:20260424T143640
CREATED:20260222T152418Z
LAST-MODIFIED:20260222T152418Z
UID:12870-1793145600-1793577599@spanischerelternverein-bonn.de
SUMMARY:Betriebsferien „El Centro“
DESCRIPTION:Das Vereinsrestaurant „El Centro“ hat geschlossen.
URL:https://spanischerelternverein-bonn.de/event/betriebsferien-el-centro-4/
LOCATION:Spanischer Elternverein Bonn-Beuel\, Paulusstraße 28\, Bonn\, 53757\, Germany
ORGANIZER;CN="Spanischer Elternverein Bonn-Beuel":MAILTO:spnischerelternverein-bonn@t-online.de
END:VEVENT
BEGIN:VEVENT
DTSTART;VALUE=DATE:20261223
DTEND;VALUE=DATE:20261225
DTSTAMP:20260424T143640
CREATED:20260222T152505Z
LAST-MODIFIED:20260222T152820Z
UID:12872-1797984000-1798156799@spanischerelternverein-bonn.de
SUMMARY:Betriebsferien „El Centro“
DESCRIPTION:Das Vereinsrestaurant „El Centro“ hat geschlossen.
URL:https://spanischerelternverein-bonn.de/event/betriebsferien-el-centro-5/
LOCATION:Spanischer Elternverein Bonn-Beuel\, Paulusstraße 28\, Bonn\, 53757\, Germany
ORGANIZER;CN="Spanischer Elternverein Bonn-Beuel":MAILTO:spnischerelternverein-bonn@t-online.de
END:VEVENT
BEGIN:VEVENT
DTSTART;VALUE=DATE:20261229
DTEND;VALUE=DATE:20261231
DTSTAMP:20260424T143640
CREATED:20260222T152557Z
LAST-MODIFIED:20260222T152557Z
UID:12874-1798502400-1798675199@spanischerelternverein-bonn.de
SUMMARY:Betriebsferien „El Centro“
DESCRIPTION:Das Vereinsrestaurant „El Centro“ hat geschlossen.
URL:https://spanischerelternverein-bonn.de/event/betriebsferien-el-centro-6/
LOCATION:Spanischer Elternverein Bonn-Beuel\, Paulusstraße 28\, Bonn\, 53757\, Germany
ORGANIZER;CN="Spanischer Elternverein Bonn-Beuel":MAILTO:spnischerelternverein-bonn@t-online.de
END:VEVENT
BEGIN:VEVENT
DTSTART;VALUE=DATE:20270101
DTEND;VALUE=DATE:20270109
DTSTAMP:20260424T143640
CREATED:20260222T152702Z
LAST-MODIFIED:20260222T152702Z
UID:12876-1798761600-1799452799@spanischerelternverein-bonn.de
SUMMARY:Betriebsferien „El Centro“
DESCRIPTION:Das Vereinsrestaurant „El Centro“ hat geschlossen.
URL:https://spanischerelternverein-bonn.de/event/betriebsferien-el-centro-7/
LOCATION:Spanischer Elternverein Bonn-Beuel\, Paulusstraße 28\, Bonn\, 53757\, Germany
ORGANIZER;CN="Spanischer Elternverein Bonn-Beuel":MAILTO:spnischerelternverein-bonn@t-online.de
END:VEVENT
END:VCALENDAR